Workbook
Name DateList: Calendar!$A$3:$A$44
Name FILENAME: Invoice!$C$42
Name INVOICE: '[1]Static Data'!$N$45
Name INVOICE: Invoice!$C$40
Name TimeList: Calendar!$C$2:$C$60

Sheet Invoice
B2: Clapham Netball Club MONTHLY TIMESHEET
B4: Bank Account number: xxxxxxxx | D4: 00000000 | I4: Please complete all blue boxes
B5: Sort code: xx-xx-xx | D5: 00-00-00 | I5: Version 2.2
B6: Payee Name: | D6: Your Name | I6: Email all invoices to invoices@swnetball.co.uk
B7: Email Address: | D7: your-email.com
B9: Month Ending: | D9: January 2026
B10: Invoice Date: | D10: =TODAY() -> 46052
B11: Due Date:
B12: Invoice Reference: | D12: =Invoice!C40 -> CN-2601YN43-300126
D14: Coaching
B15: LINE ITEM | C15: EVENT DATE dd/mm/yyyy | D15: START TIME hh:mm | E15: FINISH TIME hh:mm | F15: HOURS | G15: HOURLY RATE | H15: SUB-TOTAL | I15: NOTES
J17: C | K17: F | L17: E
B18: 1 | F18: =IF((E18-D18)>0,(E18-D18),"") | H18: =IFERROR(F18*G18*24,"")
B19: 2 | F19: =IF((E19-D19)>0,(E19-D19),"") | H19: =IFERROR(F19*G19*24,"")
B20: 3 | F20: =IF((E20-D20)>0,(E20-D20),"") | H20: =IFERROR(F20*G20*24,"")
B21: 4 | F21: =IF((E21-D21)>0,(E21-D21),"") | H21: =IFERROR(F21*G21*24,"")
B22: 5 | F22: =IF((E22-D22)>0,(E22-D22),"") | H22: =IFERROR(F22*G22*24,"")
B23: 6 | F23: =IF((E23-D23)>0,(E23-D23),"") | H23: =IFERROR(F23*G23*24,"")
B24: 7 | F24: =IF((E24-D24)>0,(E24-D24),"") | H24: =IFERROR(F24*G24*24,"")
B25: 8 | F25: =IF((E25-D25)>0,(E25-D25),"") | H25: =IFERROR(F25*G25*24,"")
B26: 9 | F26: =IF((E26-D26)>0,(E26-D26),"") | H26: =IFERROR(F26*G26*24,"")
B27: 10 | F27: =IF((E27-D27)>0,(E27-D27),"") | H27: =IFERROR(F27*G27*24,"")
F28: =SUM(F18:F27) -> 0 | G28: Total (No VAT) | H28: =SUM(H18:H27) -> 0 | I28: No VAT
B29: 320 / Training Sessions | D29: =H28 -> 0
B33: Date | C33: =Invoice!D9 -> January 2026 | D33: =VLOOKUP(C33,'Static Data'!$F$7:$H$42,3,FALSE) -> 2601
B34: Name | C34: =Invoice!D6 -> Your Name | D34: =IFERROR(UPPER(LEFT(C34,"1")),"Error") -> Y | E34: =IFERROR(UPPER(MID(C34,F34+1,1)),"") -> N | F34: =IFERROR(FIND(" ",C34),1) -> 5
B36: Account number: | C36: =Invoice!D4 -> 00000000
B37: Sort code: | C37: =Invoice!D5 -> 00-00-00
B38: checksum | C38: =ROUNDDOWN((CODE('Static Data'!A2)*LEN('Static Data'!A2)+CODE(MID('Static Data'!A2,1,2))*LEN(MID('Static Data'!A2,1,1)))/10,0) -> 43
B39: Today | C39: =TODAY() -> 46052 | D39: =TEXT(C39,"DDMMYY") -> 300126
B40: Invoice | C40: =TEXT(C43,"@")&"-"&TEXT(D33,"@")&TEXT(D34,"@")&TEXT(E34,"@")&TEXT(C38,"@")&"-"&TEXT(D39,"@") -> CN-2601YN43-300126
C41: =LEN(INVOICE) -> 18
B42: Club | C42: Clapham Netball Club
B43: TLA | C43: CN

Sheet Calendar
A1: {=_xlfn.SEQUENCE(61,1,TODAY(),-1)} -> 46052
A2: 46051
A3: 46050
A4: 46049 | C4: 0.35416667
A5: 46048 | C5: 0.36458333
A6: 46047 | C6: 0.375
A7: 46046 | C7: 0.38541667
A8: 46045 | C8: 0.39583333
A9: 46044 | C9: 0.40625
A10: 46043 | C10: 0.41666667
A11: 46042 | C11: 0.42708333
A12: 46041 | C12: 0.4375
A13: 46040
A14: 46039
A15: 46038
A16: 46037
A17: 46036
A18: 46035
A19: 46034
A20: 46033
A21: 46032
A22: 46031
A23: 46030
A24: 46029
... A61: 45992

Sheet Static Data
A1: 1 | B1: 2
A2: =Invoice!C36 -> 00000000
D6: Categorisation | F6: Month Ending
B7: 0.5 | D7: 320 Coaching | F7: January 2026 | G7: 2026-01 | H7: 2601
B8: 1 | F8: February 2026 | G8: 2026-02 | H8: 2602
F9: March 2026 | G9: 2026-03 | H9: 2603
F10: April 2026 | G10: 2026-04 | H10: 2604
F11: May 2026 | G11: 2026-05 | H11: 2605
F12: June 2026 | G12: 2026-06 | H12: 2606
F13: July 2026 | G13: 2026-07 | H13: 2607
F14: August 2026 | G14: 2026-08 | H14: 2608
F15: September 2026 | G15: 2026-09 | H15: 2609
F16: October 2026 | G16: 2026-10 | H16: 2610
F17: November 2026 | G17: 2026-11 | H17: 2611
F18: December 2026 | G18: 2026-12 | H18: 2612
F19: January 2027 | G19: 2027-01 | H19: 2701
F20: February 2027 | G20: 2027-02 | H20: 2702
... F42: December 2028 | G42: 2028-12 | H42: 2812
